BEGIN:VCALENDAR
VERSION:2.0
PRODID:-//Cactus Foothills Little League CFLL Portal - ECPv6.15.20//NONSGML v1.0//EN
CALSCALE:GREGORIAN
METHOD:PUBLISH
X-WR-CALNAME:Cactus Foothills Little League CFLL Portal
X-ORIGINAL-URL:https://cfll.cactusfoothills.com
X-WR-CALDESC:Events for Cactus Foothills Little League CFLL Portal
REFRESH-INTERVAL;VALUE=DURATION:PT1H
X-Robots-Tag:noindex
X-PUBLISHED-TTL:PT1H
BEGIN:VTIMEZONE
TZID:America/Denver
BEGIN:DAYLIGHT
TZOFFSETFROM:-0700
TZOFFSETTO:-0600
TZNAME:MDT
DTSTART:20210314T090000
END:DAYLIGHT
BEGIN:STANDARD
TZOFFSETFROM:-0600
TZOFFSETTO:-0700
TZNAME:MST
DTSTART:20211107T080000
END:STANDARD
BEGIN:DAYLIGHT
TZOFFSETFROM:-0700
TZOFFSETTO:-0600
TZNAME:MDT
DTSTART:20220313T090000
END:DAYLIGHT
BEGIN:STANDARD
TZOFFSETFROM:-0600
TZOFFSETTO:-0700
TZNAME:MST
DTSTART:20221106T080000
END:STANDARD
BEGIN:DAYLIGHT
TZOFFSETFROM:-0700
TZOFFSETTO:-0600
TZNAME:MDT
DTSTART:20230312T090000
END:DAYLIGHT
BEGIN:STANDARD
TZOFFSETFROM:-0600
TZOFFSETTO:-0700
TZNAME:MST
DTSTART:20231105T080000
END:STANDARD
END:VTIMEZONE
BEGIN:VEVENT
DTSTART;TZID=America/Denver:20220120T195000
DTEND;TZID=America/Denver:20220120T210000
DTSTAMP:20260423T161721
CREATED:20220117T000204Z
LAST-MODIFIED:20220117T002509Z
UID:1879-1642708200-1642712400@cfll.cactusfoothills.com
SUMMARY:Umpires Meeting / Rules Clinic
DESCRIPTION:Coaches (:45)\n\nCFLL Mission\, Culture\, Code of Conduct Review\nCFLL Portal Overview\nCoaching Checklist\nDocumentation Requirements\nRoles and Volunteer Support\nFundraising Support\nCoaching Tools and Resources\nOperations Support and Expectations\nTraining required (concussions\, abuse (safe sport))\nSchedule/Key Dates\n\n\nUmpires & Coaches (1:15-20)\n\nWorking Together\n2022 Rule Changes\nCommon Myths (and reality) and Points of Emphasis\n\n\nUmpires (:45)\n\nPayment and Scheduling (HorizonWebRef)\nExam Format/schedule\nResources (Rules and Mechanics)\nField Clinic(s)
URL:https://cfll.cactusfoothills.com/event/umpires-meeting-rules-clinic/
LOCATION:Fine Arts Center\, 33606 N 60th St.\, Scottsdale\, AZ\, 85266\, United States
CATEGORIES:Umpires
END:VEVENT
END:VCALENDAR