BEGIN:VCALENDAR
VERSION:2.0
PRODID:-//Cactus Foothills Little League CFLL Portal - ECPv6.15.20//NONSGML v1.0//EN
CALSCALE:GREGORIAN
METHOD:PUBLISH
X-ORIGINAL-URL:https://cfll.cactusfoothills.com
X-WR-CALDESC:Events for Cactus Foothills Little League CFLL Portal
REFRESH-INTERVAL;VALUE=DURATION:PT1H
X-Robots-Tag:noindex
X-PUBLISHED-TTL:PT1H
BEGIN:VTIMEZONE
TZID:America/Denver
BEGIN:DAYLIGHT
TZOFFSETFROM:-0700
TZOFFSETTO:-0600
TZNAME:MDT
DTSTART:20210314T090000
END:DAYLIGHT
BEGIN:STANDARD
TZOFFSETFROM:-0600
TZOFFSETTO:-0700
TZNAME:MST
DTSTART:20211107T080000
END:STANDARD
BEGIN:DAYLIGHT
TZOFFSETFROM:-0700
TZOFFSETTO:-0600
TZNAME:MDT
DTSTART:20220313T090000
END:DAYLIGHT
BEGIN:STANDARD
TZOFFSETFROM:-0600
TZOFFSETTO:-0700
TZNAME:MST
DTSTART:20221106T080000
END:STANDARD
BEGIN:DAYLIGHT
TZOFFSETFROM:-0700
TZOFFSETTO:-0600
TZNAME:MDT
DTSTART:20230312T090000
END:DAYLIGHT
BEGIN:STANDARD
TZOFFSETFROM:-0600
TZOFFSETTO:-0700
TZNAME:MST
DTSTART:20231105T080000
END:STANDARD
END:VTIMEZONE
BEGIN:VEVENT
DTSTART;TZID=America/Denver:20220507T100000
DTEND;TZID=America/Denver:20220507T150000
DTSTAMP:20260423T130856
CREATED:20220504T153551Z
LAST-MODIFIED:20220504T154318Z
UID:2201-1651917600-1651935600@cfll.cactusfoothills.com
SUMMARY:Softball Hit A Thon
DESCRIPTION:Its that time of year again the CFLL Hit a Thon is around the corner. Here are the dates and times of the Hit A thon events \n–Softball Hit A Thon event Saturday 5/7 at Fitz @9-3 PM – Click Here and scroll down to see Schedule \nAll players/parents should have received a personal link to their player page in 99pledges.com to begin soliciting donations. As we did last year donations can be per point (example $.50 per point at 100 points = $50) or lump sum amounts. \n*If you do not see your emailed link you can search this site (https://app.99pledges.com/fund/cfllhitathon2022/) search your child’s name and you can capture the link to share on your own. \nThe money we raise will go to offset our increasing field costs and needed repairs and upgrades to our facilities as well as continuing to ensure we have the most current equipment for our kids to use. \nThis is the one fundraiser per year that we get the kids involved\, so please send the link to all your friends\, family and coworkers and lets show everybody how great these kids are.
URL:https://cfll.cactusfoothills.com/event/softball-hit-a-thon/
LOCATION:Fitz Field\, 5910-5904 Falcon Dr\, Scottsdale\, AZ\, 85266\, United States
CATEGORIES:Hit A Thon,Softball
ATTACH;FMTTYPE=image/png:https://cfll.cactusfoothills.com/wp-content/uploads/2022/01/CFLogo.png
END:VEVENT
BEGIN:VEVENT
DTSTART;TZID=America/Denver:20220226T090000
DTEND;TZID=America/Denver:20220226T120000
DTSTAMP:20260423T130856
CREATED:20220112T075031Z
LAST-MODIFIED:20220225T225725Z
UID:1753-1645866000-1645876800@cfll.cactusfoothills.com
SUMMARY:CFLL Opening Day
DESCRIPTION:Opening Day Schedule:\n9:00 – Gates Open + Team Arrivals\n9:15 – Teams Corralled (BMES green)\n9:20 – Parade (3rd base entry)\n10:10 – Season Snippet\, Board Intro\, Pledge (Chad)\n10:20 – A/S Recognition (Brett x3\, Patrick x4)\n10:50 – Play (and Play Ball!) \nHighlights: \n\nTeam Introductions\nCelebrating Success\nBounce Houses\nConcessions\nWood Fired Pizza\nBBQ Hamburger & Hot Dog Specials\nEquipment Yard Sale with Helmets & Bats\n50 / 50 Raffle\nSoftball + Baseball Games in the afternoon\n… and more!
URL:https://cfll.cactusfoothills.com/event/cfll-opening-day/
LOCATION:Fitz Field\, 5910-5904 Falcon Dr\, Scottsdale\, AZ\, 85266\, United States
CATEGORIES:Baseball,Opening Day,Softball
END:VEVENT
BEGIN:VEVENT
DTSTART;VALUE=DATE:20220219
DTEND;VALUE=DATE:20220220
DTSTAMP:20260423T130856
CREATED:20220112T074908Z
LAST-MODIFIED:20220112T074908Z
UID:1750-1645228800-1645315199@cfll.cactusfoothills.com
SUMMARY:CFLL Picture Day
DESCRIPTION:Details Coming Soon
URL:https://cfll.cactusfoothills.com/event/cfll-picture-day/
LOCATION:AZ
CATEGORIES:Baseball,Pictures,Softball
ATTACH;FMTTYPE=image/jpeg:https://cfll.cactusfoothills.com/wp-content/uploads/2022/01/pictureDay.jpg
END:VEVENT
BEGIN:VEVENT
DTSTART;TZID=America/Denver:20220131T173000
DTEND;TZID=America/Denver:20220131T183000
DTSTAMP:20260423T130856
CREATED:20220114T155033Z
LAST-MODIFIED:20220114T155058Z
UID:1839-1643650200-1643653800@cfll.cactusfoothills.com
SUMMARY:2016\, 2017 Born Players
DESCRIPTION:Dear CFLL Parents\,\nIt’s almost time for the Spring Softball season! All softball players MUST sign up for evaluations unless they are a returning Majors player from the Spring 2021 season (returning Majors players are still welcome to attend). \nSoftball player skill evaluations will be held at Fitz Field.\nPlayers only need to attend 1 of the following sessions.\nPlease review the available slots in the link below and click on the button to sign up. \nCLICK HERE to Sign Up on the Sign Up Genius.
URL:https://cfll.cactusfoothills.com/event/2016-2017-born-players/
LOCATION:Fitz Field\, 5910-5904 Falcon Dr\, Scottsdale\, AZ\, 85266\, United States
CATEGORIES:2016,2017,Evals,Evaluations,Softball,Try Outs
ATTACH;FMTTYPE=image/png:https://cfll.cactusfoothills.com/wp-content/uploads/2021/11/CFLLLogo.png
END:VEVENT
BEGIN:VEVENT
DTSTART;TZID=America/Denver:20220124T190000
DTEND;TZID=America/Denver:20220124T204500
DTSTAMP:20260423T130856
CREATED:20220114T154859Z
LAST-MODIFIED:20220114T154859Z
UID:1836-1643050800-1643057100@cfll.cactusfoothills.com
SUMMARY:2009\, 2010 Born Players
DESCRIPTION:Dear CFLL Parents\,\nIt’s almost time for the Spring Softball season! All softball players MUST sign up for evaluations unless they are a returning Majors player from the Spring 2021 season (returning Majors players are still welcome to attend). \nSoftball player skill evaluations will be held at Fitz Field.\nPlayers only need to attend 1 of the following sessions.\nPlease review the available slots in the link below and click on the button to sign up. \nCLICK HERE to Sign Up on the Sign Up Genius.
URL:https://cfll.cactusfoothills.com/event/2009-2010-born-players-2/
LOCATION:Fitz Field\, 5910-5904 Falcon Dr\, Scottsdale\, AZ\, 85266\, United States
CATEGORIES:2009,2010,Evals,Evaluations,Softball,Try Outs
ATTACH;FMTTYPE=image/png:https://cfll.cactusfoothills.com/wp-content/uploads/2021/11/CFLLLogo.png
END:VEVENT
BEGIN:VEVENT
DTSTART;TZID=America/Denver:20220124T171500
DTEND;TZID=America/Denver:20220124T184500
DTSTAMP:20260423T130856
CREATED:20220114T154731Z
LAST-MODIFIED:20220114T154731Z
UID:1834-1643044500-1643049900@cfll.cactusfoothills.com
SUMMARY:2011\, 2012 Born Players
DESCRIPTION:Dear CFLL Parents\,\nIt’s almost time for the Spring Softball season! All softball players MUST sign up for evaluations unless they are a returning Majors player from the Spring 2021 season (returning Majors players are still welcome to attend). \nSoftball player skill evaluations will be held at Fitz Field.\nPlayers only need to attend 1 of the following sessions.\nPlease review the available slots in the link below and click on the button to sign up. \nCLICK HERE to Sign Up on the Sign Up Genius.
URL:https://cfll.cactusfoothills.com/event/2011-2012-born-players-2/
LOCATION:Fitz Field\, 5910-5904 Falcon Dr\, Scottsdale\, AZ\, 85266\, United States
CATEGORIES:2011,2012,Evals,Evaluations,Softball,Try Outs
ATTACH;FMTTYPE=image/png:https://cfll.cactusfoothills.com/wp-content/uploads/2021/11/CFLLLogo.png
END:VEVENT
BEGIN:VEVENT
DTSTART;TZID=America/Denver:20220123T180000
DTEND;TZID=America/Denver:20220123T193000
DTSTAMP:20260423T130856
CREATED:20220114T154606Z
LAST-MODIFIED:20220114T154606Z
UID:1832-1642960800-1642966200@cfll.cactusfoothills.com
SUMMARY:2011\, 2012 Born Players
DESCRIPTION:Dear CFLL Parents\,\nIt’s almost time for the Spring Softball season! All softball players MUST sign up for evaluations unless they are a returning Majors player from the Spring 2021 season (returning Majors players are still welcome to attend). \nSoftball player skill evaluations will be held at Fitz Field.\nPlayers only need to attend 1 of the following sessions.\nPlease review the available slots in the link below and click on the button to sign up. \nCLICK HERE to Sign Up on the Sign Up Genius.
URL:https://cfll.cactusfoothills.com/event/2011-2012-born-players/
LOCATION:Fitz Field\, 5910-5904 Falcon Dr\, Scottsdale\, AZ\, 85266\, United States
CATEGORIES:2011,2012,Evals,Evaluations,Softball,Try Outs
ATTACH;FMTTYPE=image/png:https://cfll.cactusfoothills.com/wp-content/uploads/2021/11/CFLLLogo.png
END:VEVENT
BEGIN:VEVENT
DTSTART;TZID=America/Denver:20220123T160000
DTEND;TZID=America/Denver:20220123T173000
DTSTAMP:20260423T130856
CREATED:20220114T154353Z
LAST-MODIFIED:20220114T154353Z
UID:1830-1642953600-1642959000@cfll.cactusfoothills.com
SUMMARY:2013\, 2014\, 2015 Born Players
DESCRIPTION:Dear CFLL Parents\,\nIt’s almost time for the Spring Softball season! All softball players MUST sign up for evaluations unless they are a returning Majors player from the Spring 2021 season (returning Majors players are still welcome to attend). \nSoftball player skill evaluations will be held at Fitz Field.\nPlayers only need to attend 1 of the following sessions.\nPlease review the available slots in the link below and click on the button to sign up. \nCLICK HERE to Sign Up on the Sign Up Genius.
URL:https://cfll.cactusfoothills.com/event/2013-2014-2015-born-players-2/
LOCATION:Fitz Field\, 5910-5904 Falcon Dr\, Scottsdale\, AZ\, 85266\, United States
CATEGORIES:2013,2014,2015,Evals,Evaluations,Softball,Try Outs
ATTACH;FMTTYPE=image/png:https://cfll.cactusfoothills.com/wp-content/uploads/2021/11/CFLLLogo.png
END:VEVENT
BEGIN:VEVENT
DTSTART;TZID=America/Denver:20220121T190000
DTEND;TZID=America/Denver:20220121T204500
DTSTAMP:20260423T130856
CREATED:20220114T154057Z
LAST-MODIFIED:20220114T154150Z
UID:1828-1642791600-1642797900@cfll.cactusfoothills.com
SUMMARY:2009\, 2010 Born Players
DESCRIPTION:Dear CFLL Parents\,\nIt’s almost time for the Spring Softball season! All softball players MUST sign up for evaluations unless they are a returning Majors player from the Spring 2021 season (returning Majors players are still welcome to attend). \nSoftball player skill evaluations will be held at Fitz Field.\nPlayers only need to attend 1 of the following sessions.\nPlease review the available slots in the link below and click on the button to sign up. \nCLICK HERE to Sign Up on the Sign Up Genius.
URL:https://cfll.cactusfoothills.com/event/2009-2010-born-players/
LOCATION:Fitz Field\, 5910-5904 Falcon Dr\, Scottsdale\, AZ\, 85266\, United States
CATEGORIES:2009,2010,Evals,Evaluations,Softball,Try Outs
ATTACH;FMTTYPE=image/png:https://cfll.cactusfoothills.com/wp-content/uploads/2021/11/CFLLLogo.png
END:VEVENT
BEGIN:VEVENT
DTSTART;TZID=America/Denver:20220121T171500
DTEND;TZID=America/Denver:20220121T184500
DTSTAMP:20260423T130856
CREATED:20220114T153825Z
LAST-MODIFIED:20220114T154126Z
UID:1826-1642785300-1642790700@cfll.cactusfoothills.com
SUMMARY:2013\, 2014\, 2015 Born Players
DESCRIPTION:Dear CFLL Parents\,\nIt’s almost time for the Spring Softball season! All softball players MUST sign up for evaluations unless they are a returning Majors player from the Spring 2021 season (returning Majors players are still welcome to attend). \nSoftball player skill evaluations will be held at Fitz Field.\nPlayers only need to attend 1 of the following sessions.\nPlease review the available slots in the link below and click on the button to sign up. \nCLICK HERE to Sign Up on the Sign Up Genius.
URL:https://cfll.cactusfoothills.com/event/2013-2014-2015-born-players/
LOCATION:Fitz Field\, 5910-5904 Falcon Dr\, Scottsdale\, AZ\, 85266\, United States
CATEGORIES:2013,2014,2015,Evals,Evaluations,Softball,Try Outs
ATTACH;FMTTYPE=image/png:https://cfll.cactusfoothills.com/wp-content/uploads/2021/11/CFLLLogo.png
END:VEVENT
END:VCALENDAR