BEGIN:VCALENDAR
VERSION:2.0
PRODID:-//Cactus Foothills Little League CFLL Portal - ECPv6.15.20//NONSGML v1.0//EN
CALSCALE:GREGORIAN
METHOD:PUBLISH
X-ORIGINAL-URL:https://cfll.cactusfoothills.com
X-WR-CALDESC:Events for Cactus Foothills Little League CFLL Portal
REFRESH-INTERVAL;VALUE=DURATION:PT1H
X-Robots-Tag:noindex
X-PUBLISHED-TTL:PT1H
BEGIN:VTIMEZONE
TZID:America/Denver
BEGIN:DAYLIGHT
TZOFFSETFROM:-0700
TZOFFSETTO:-0600
TZNAME:MDT
DTSTART:20210314T090000
END:DAYLIGHT
BEGIN:STANDARD
TZOFFSETFROM:-0600
TZOFFSETTO:-0700
TZNAME:MST
DTSTART:20211107T080000
END:STANDARD
BEGIN:DAYLIGHT
TZOFFSETFROM:-0700
TZOFFSETTO:-0600
TZNAME:MDT
DTSTART:20220313T090000
END:DAYLIGHT
BEGIN:STANDARD
TZOFFSETFROM:-0600
TZOFFSETTO:-0700
TZNAME:MST
DTSTART:20221106T080000
END:STANDARD
BEGIN:DAYLIGHT
TZOFFSETFROM:-0700
TZOFFSETTO:-0600
TZNAME:MDT
DTSTART:20230312T090000
END:DAYLIGHT
BEGIN:STANDARD
TZOFFSETFROM:-0600
TZOFFSETTO:-0700
TZNAME:MST
DTSTART:20231105T080000
END:STANDARD
END:VTIMEZONE
BEGIN:VEVENT
DTSTART;TZID=America/Denver:20220226T090000
DTEND;TZID=America/Denver:20220226T120000
DTSTAMP:20260423T144612
CREATED:20220112T075031Z
LAST-MODIFIED:20220225T225725Z
UID:1753-1645866000-1645876800@cfll.cactusfoothills.com
SUMMARY:CFLL Opening Day
DESCRIPTION:Opening Day Schedule:\n9:00 – Gates Open + Team Arrivals\n9:15 – Teams Corralled (BMES green)\n9:20 – Parade (3rd base entry)\n10:10 – Season Snippet\, Board Intro\, Pledge (Chad)\n10:20 – A/S Recognition (Brett x3\, Patrick x4)\n10:50 – Play (and Play Ball!) \nHighlights: \n\nTeam Introductions\nCelebrating Success\nBounce Houses\nConcessions\nWood Fired Pizza\nBBQ Hamburger & Hot Dog Specials\nEquipment Yard Sale with Helmets & Bats\n50 / 50 Raffle\nSoftball + Baseball Games in the afternoon\n… and more!
URL:https://cfll.cactusfoothills.com/event/cfll-opening-day/
LOCATION:Fitz Field\, 5910-5904 Falcon Dr\, Scottsdale\, AZ\, 85266\, United States
CATEGORIES:Baseball,Opening Day,Softball
END:VEVENT
END:VCALENDAR