BEGIN:VCALENDAR
VERSION:2.0
PRODID:-//Cactus Foothills Little League CFLL Portal - ECPv6.15.20//NONSGML v1.0//EN
CALSCALE:GREGORIAN
METHOD:PUBLISH
X-ORIGINAL-URL:https://cfll.cactusfoothills.com
X-WR-CALDESC:Events for Cactus Foothills Little League CFLL Portal
REFRESH-INTERVAL;VALUE=DURATION:PT1H
X-Robots-Tag:noindex
X-PUBLISHED-TTL:PT1H
BEGIN:VTIMEZONE
TZID:America/Denver
BEGIN:DAYLIGHT
TZOFFSETFROM:-0700
TZOFFSETTO:-0600
TZNAME:MDT
DTSTART:20210314T090000
END:DAYLIGHT
BEGIN:STANDARD
TZOFFSETFROM:-0600
TZOFFSETTO:-0700
TZNAME:MST
DTSTART:20211107T080000
END:STANDARD
BEGIN:DAYLIGHT
TZOFFSETFROM:-0700
TZOFFSETTO:-0600
TZNAME:MDT
DTSTART:20220313T090000
END:DAYLIGHT
BEGIN:STANDARD
TZOFFSETFROM:-0600
TZOFFSETTO:-0700
TZNAME:MST
DTSTART:20221106T080000
END:STANDARD
BEGIN:DAYLIGHT
TZOFFSETFROM:-0700
TZOFFSETTO:-0600
TZNAME:MDT
DTSTART:20230312T090000
END:DAYLIGHT
BEGIN:STANDARD
TZOFFSETFROM:-0600
TZOFFSETTO:-0700
TZNAME:MST
DTSTART:20231105T080000
END:STANDARD
END:VTIMEZONE
BEGIN:VEVENT
DTSTART;TZID=America/Denver:20220510T170000
DTEND;TZID=America/Denver:20220510T210000
DTSTAMP:20260423T130856
CREATED:20220504T153918Z
LAST-MODIFIED:20220504T154144Z
UID:2218-1652202000-1652216400@cfll.cactusfoothills.com
SUMMARY:Baseball Hit A Thon
DESCRIPTION:Its that time of year again the CFLL Hit a Thon is around the corner. Here are the dates and times of the Hit A thon events \n–Baseball Hit A Thon event Tuesday 5/10 at HTES @5-9PM – Click Here and scroll down to see Schedule \nAll players/parents should have received a personal link to their player page in 99pledges.com to begin soliciting donations. As we did last year donations can be per point (example $.50 per point at 100 points = $50) or lump sum amounts. \n*If you do not see your emailed link you can search this site (https://app.99pledges.com/fund/cfllhitathon2022/) search your child’s name and you can capture the link to share on your own. \nThe money we raise will go to offset our increasing field costs and needed repairs and upgrades to our facilities as well as continuing to ensure we have the most current equipment for our kids to use. \nThis is the one fundraiser per year that we get the kids involved\, so please send the link to all your friends\, family and coworkers and lets show everybody how great these kids are.
URL:https://cfll.cactusfoothills.com/event/baseball-hit-a-thon/
LOCATION:Horseshoe Trails\, 5405 E Pinnacle Vista Dr\, Phoenix\, AZ\, 85054\, United States
CATEGORIES:Baseball,Hit A Thon
ATTACH;FMTTYPE=image/png:https://cfll.cactusfoothills.com/wp-content/uploads/2022/01/CFLogo.png
END:VEVENT
BEGIN:VEVENT
DTSTART;TZID=America/Denver:20220510T163000
DTEND;TZID=America/Denver:20220510T180000
DTSTAMP:20260423T130856
CREATED:20220504T154047Z
LAST-MODIFIED:20220504T154124Z
UID:2220-1652200200-1652205600@cfll.cactusfoothills.com
SUMMARY:TBall Hit A Thon
DESCRIPTION:Its that time of year again the CFLL Hit a Thon is around the corner. Here are the dates and times of the Hit A thon events \n-TBall Hit A Thon event Tuesday 5/10 at HTES @4:30-6PM – Click Here and scroll down to see Schedule \nAll players/parents should have received a personal link to their player page in 99pledges.com to begin soliciting donations. As we did last year donations can be per point (example $.50 per point at 100 points = $50) or lump sum amounts. \n*If you do not see your emailed link you can search this site (https://app.99pledges.com/fund/cfllhitathon2022/) search your child’s name and you can capture the link to share on your own. \nThe money we raise will go to offset our increasing field costs and needed repairs and upgrades to our facilities as well as continuing to ensure we have the most current equipment for our kids to use. \nThis is the one fundraiser per year that we get the kids involved\, so please send the link to all your friends\, family and coworkers and lets show everybody how great these kids are.
URL:https://cfll.cactusfoothills.com/event/tball-hit-a-thon/
LOCATION:Horseshoe Trails\, 5405 E Pinnacle Vista Dr\, Phoenix\, AZ\, 85054\, United States
CATEGORIES:Baseball,Hit A Thon
ATTACH;FMTTYPE=image/png:https://cfll.cactusfoothills.com/wp-content/uploads/2022/01/CFLogo.png
END:VEVENT
BEGIN:VEVENT
DTSTART;TZID=America/Denver:20220507T100000
DTEND;TZID=America/Denver:20220507T150000
DTSTAMP:20260423T130856
CREATED:20220504T153551Z
LAST-MODIFIED:20220504T154318Z
UID:2201-1651917600-1651935600@cfll.cactusfoothills.com
SUMMARY:Softball Hit A Thon
DESCRIPTION:Its that time of year again the CFLL Hit a Thon is around the corner. Here are the dates and times of the Hit A thon events \n–Softball Hit A Thon event Saturday 5/7 at Fitz @9-3 PM – Click Here and scroll down to see Schedule \nAll players/parents should have received a personal link to their player page in 99pledges.com to begin soliciting donations. As we did last year donations can be per point (example $.50 per point at 100 points = $50) or lump sum amounts. \n*If you do not see your emailed link you can search this site (https://app.99pledges.com/fund/cfllhitathon2022/) search your child’s name and you can capture the link to share on your own. \nThe money we raise will go to offset our increasing field costs and needed repairs and upgrades to our facilities as well as continuing to ensure we have the most current equipment for our kids to use. \nThis is the one fundraiser per year that we get the kids involved\, so please send the link to all your friends\, family and coworkers and lets show everybody how great these kids are.
URL:https://cfll.cactusfoothills.com/event/softball-hit-a-thon/
LOCATION:Fitz Field\, 5910-5904 Falcon Dr\, Scottsdale\, AZ\, 85266\, United States
CATEGORIES:Hit A Thon,Softball
ATTACH;FMTTYPE=image/png:https://cfll.cactusfoothills.com/wp-content/uploads/2022/01/CFLogo.png
END:VEVENT
END:VCALENDAR