BEGIN:VCALENDAR
VERSION:2.0
PRODID:-//Cactus Foothills Little League CFLL Portal - ECPv6.15.20//NONSGML v1.0//EN
CALSCALE:GREGORIAN
METHOD:PUBLISH
X-WR-CALNAME:Cactus Foothills Little League CFLL Portal
X-ORIGINAL-URL:https://cfll.cactusfoothills.com
X-WR-CALDESC:Events for Cactus Foothills Little League CFLL Portal
REFRESH-INTERVAL;VALUE=DURATION:PT1H
X-Robots-Tag:noindex
X-PUBLISHED-TTL:PT1H
BEGIN:VTIMEZONE
TZID:America/Denver
BEGIN:DAYLIGHT
TZOFFSETFROM:-0700
TZOFFSETTO:-0600
TZNAME:MDT
DTSTART:20210314T090000
END:DAYLIGHT
BEGIN:STANDARD
TZOFFSETFROM:-0600
TZOFFSETTO:-0700
TZNAME:MST
DTSTART:20211107T080000
END:STANDARD
BEGIN:DAYLIGHT
TZOFFSETFROM:-0700
TZOFFSETTO:-0600
TZNAME:MDT
DTSTART:20220313T090000
END:DAYLIGHT
BEGIN:STANDARD
TZOFFSETFROM:-0600
TZOFFSETTO:-0700
TZNAME:MST
DTSTART:20221106T080000
END:STANDARD
BEGIN:DAYLIGHT
TZOFFSETFROM:-0700
TZOFFSETTO:-0600
TZNAME:MDT
DTSTART:20230312T090000
END:DAYLIGHT
BEGIN:STANDARD
TZOFFSETFROM:-0600
TZOFFSETTO:-0700
TZNAME:MST
DTSTART:20231105T080000
END:STANDARD
END:VTIMEZONE
BEGIN:VEVENT
DTSTART;VALUE=DATE:20220118
DTEND;VALUE=DATE:20220123
DTSTAMP:20260423T173354
CREATED:20220116T230029Z
LAST-MODIFIED:20220116T230029Z
UID:1875-1642464000-1642895999@cfll.cactusfoothills.com
SUMMARY:CFLL Needs Help With Baseball Tryouts
DESCRIPTION:Hello CFLL Family: \nBaseball evaluations are coming up and we need your help. \n\nWe need 3 volunteers for check-in / registration for each session.\nWe need 4 volunteers to assist on the field during each session:\n1 to hit ground balls / run pitching machine\n2 to assist with player control\n\nCLICK HERE to Volunteer Support
URL:https://cfll.cactusfoothills.com/event/cfll-needs-help-with-baseball-tryouts/
LOCATION:Horseshoe Trails\, 5405 E Pinnacle Vista Dr\, Phoenix\, AZ\, 85054\, United States
CATEGORIES:Evals,Evaluations,Help,Try Outs,Volunteer
END:VEVENT
END:VCALENDAR