BEGIN:VCALENDAR
VERSION:2.0
PRODID:-//Cactus Foothills Little League CFLL Portal - ECPv6.15.20//NONSGML v1.0//EN
CALSCALE:GREGORIAN
METHOD:PUBLISH
X-WR-CALNAME:Cactus Foothills Little League CFLL Portal
X-ORIGINAL-URL:https://cfll.cactusfoothills.com
X-WR-CALDESC:Events for Cactus Foothills Little League CFLL Portal
REFRESH-INTERVAL;VALUE=DURATION:PT1H
X-Robots-Tag:noindex
X-PUBLISHED-TTL:PT1H
BEGIN:VTIMEZONE
TZID:America/Denver
BEGIN:DAYLIGHT
TZOFFSETFROM:-0700
TZOFFSETTO:-0600
TZNAME:MDT
DTSTART:20210314T090000
END:DAYLIGHT
BEGIN:STANDARD
TZOFFSETFROM:-0600
TZOFFSETTO:-0700
TZNAME:MST
DTSTART:20211107T080000
END:STANDARD
BEGIN:DAYLIGHT
TZOFFSETFROM:-0700
TZOFFSETTO:-0600
TZNAME:MDT
DTSTART:20220313T090000
END:DAYLIGHT
BEGIN:STANDARD
TZOFFSETFROM:-0600
TZOFFSETTO:-0700
TZNAME:MST
DTSTART:20221106T080000
END:STANDARD
BEGIN:DAYLIGHT
TZOFFSETFROM:-0700
TZOFFSETTO:-0600
TZNAME:MDT
DTSTART:20230312T090000
END:DAYLIGHT
BEGIN:STANDARD
TZOFFSETFROM:-0600
TZOFFSETTO:-0700
TZNAME:MST
DTSTART:20231105T080000
END:STANDARD
END:VTIMEZONE
BEGIN:VEVENT
DTSTART;TZID=America/Denver:20220112T110000
DTEND;TZID=America/Denver:20220112T220000
DTSTAMP:20260423T172050
CREATED:20220112T062927Z
LAST-MODIFIED:20220112T073842Z
UID:1718-1641985200-1642024800@cfll.cactusfoothills.com
SUMMARY:CFLL & Lou Malnati's
DESCRIPTION:Lou Malnati’s will donate 20% of total sales to your organization (20% based on pre-tax purchase\, excluding alcohol) from every order received from Dine-In\, Carryout or Delivery (within zone).\nMake sure to mention the flyer or fundraiser during your order! \nClick Here to See Flyer
URL:https://cfll.cactusfoothills.com/event/cfll-night-at-lou-malnatis/
LOCATION:Lou Malnati’s\, 17787 N Scottsdale Road\, Scottsdale\, 85255\, United States
CATEGORIES:Fundraiser
ATTACH;FMTTYPE=image/png:https://cfll.cactusfoothills.com/wp-content/uploads/2022/01/Loulogo2x.png
END:VEVENT
END:VCALENDAR