BEGIN:VCALENDAR
VERSION:2.0
PRODID:-//Cactus Foothills Little League CFLL Portal - ECPv6.15.20//NONSGML v1.0//EN
CALSCALE:GREGORIAN
METHOD:PUBLISH
X-WR-CALNAME:Cactus Foothills Little League CFLL Portal
X-ORIGINAL-URL:https://cfll.cactusfoothills.com
X-WR-CALDESC:Events for Cactus Foothills Little League CFLL Portal
REFRESH-INTERVAL;VALUE=DURATION:PT1H
X-Robots-Tag:noindex
X-PUBLISHED-TTL:PT1H
BEGIN:VTIMEZONE
TZID:America/Denver
BEGIN:DAYLIGHT
TZOFFSETFROM:-0700
TZOFFSETTO:-0600
TZNAME:MDT
DTSTART:20210314T090000
END:DAYLIGHT
BEGIN:STANDARD
TZOFFSETFROM:-0600
TZOFFSETTO:-0700
TZNAME:MST
DTSTART:20211107T080000
END:STANDARD
BEGIN:DAYLIGHT
TZOFFSETFROM:-0700
TZOFFSETTO:-0600
TZNAME:MDT
DTSTART:20220313T090000
END:DAYLIGHT
BEGIN:STANDARD
TZOFFSETFROM:-0600
TZOFFSETTO:-0700
TZNAME:MST
DTSTART:20221106T080000
END:STANDARD
BEGIN:DAYLIGHT
TZOFFSETFROM:-0700
TZOFFSETTO:-0600
TZNAME:MDT
DTSTART:20230312T090000
END:DAYLIGHT
BEGIN:STANDARD
TZOFFSETFROM:-0600
TZOFFSETTO:-0700
TZNAME:MST
DTSTART:20231105T080000
END:STANDARD
END:VTIMEZONE
BEGIN:VEVENT
DTSTART;VALUE=DATE:20220114
DTEND;VALUE=DATE:20220118
DTSTAMP:20260423T172101
CREATED:20220112T065807Z
LAST-MODIFIED:20220114T161638Z
UID:1740-1642118400-1642463999@cfll.cactusfoothills.com
SUMMARY:DICK'S 20% Off Exclusive Shop Event
DESCRIPTION:DICK’S Exclusive shopping event Jan 14 – Jan 17 20% OFF \n \nClick Here to Get Coupon \nNeed to shop online?\nThe online code is only valid for baseball/softball items and cleats.\nONLINE CODE: TMSPORTSJAN14BSBL
URL:https://cfll.cactusfoothills.com/event/dicks-20-off-exclusive-shop-event/
LOCATION:Dicks\, AZ\, United States
CATEGORIES:Coupon
ATTACH;FMTTYPE=image/png:https://cfll.cactusfoothills.com/wp-content/uploads/2022/01/dicksLogo.png
END:VEVENT
END:VCALENDAR