BEGIN:VCALENDAR
VERSION:2.0
PRODID:-//Cactus Foothills Little League CFLL Portal - ECPv6.15.20//NONSGML v1.0//EN
CALSCALE:GREGORIAN
METHOD:PUBLISH
X-ORIGINAL-URL:https://cfll.cactusfoothills.com
X-WR-CALDESC:Events for Cactus Foothills Little League CFLL Portal
REFRESH-INTERVAL;VALUE=DURATION:PT1H
X-Robots-Tag:noindex
X-PUBLISHED-TTL:PT1H
BEGIN:VTIMEZONE
TZID:America/Denver
BEGIN:DAYLIGHT
TZOFFSETFROM:-0700
TZOFFSETTO:-0600
TZNAME:MDT
DTSTART:20210314T090000
END:DAYLIGHT
BEGIN:STANDARD
TZOFFSETFROM:-0600
TZOFFSETTO:-0700
TZNAME:MST
DTSTART:20211107T080000
END:STANDARD
BEGIN:DAYLIGHT
TZOFFSETFROM:-0700
TZOFFSETTO:-0600
TZNAME:MDT
DTSTART:20220313T090000
END:DAYLIGHT
BEGIN:STANDARD
TZOFFSETFROM:-0600
TZOFFSETTO:-0700
TZNAME:MST
DTSTART:20221106T080000
END:STANDARD
BEGIN:DAYLIGHT
TZOFFSETFROM:-0700
TZOFFSETTO:-0600
TZNAME:MDT
DTSTART:20230312T090000
END:DAYLIGHT
BEGIN:STANDARD
TZOFFSETFROM:-0600
TZOFFSETTO:-0700
TZNAME:MST
DTSTART:20231105T080000
END:STANDARD
END:VTIMEZONE
BEGIN:VEVENT
DTSTART;TZID=America/Denver:20220127T190000
DTEND;TZID=America/Denver:20220127T210000
DTSTAMP:20260423T144613
CREATED:20220120T125454Z
LAST-MODIFIED:20220120T125454Z
UID:1965-1643310000-1643317200@cfll.cactusfoothills.com
SUMMARY:A Draft
DESCRIPTION:More Details Coming Soon
URL:https://cfll.cactusfoothills.com/event/a-draft/
CATEGORIES:Baseball,Coaches,Draft
ATTACH;FMTTYPE=image/jpeg:https://cfll.cactusfoothills.com/wp-content/uploads/2022/01/draft.jpg
END:VEVENT
BEGIN:VEVENT
DTSTART;TZID=America/Denver:20220126T190000
DTEND;TZID=America/Denver:20220126T210000
DTSTAMP:20260423T144613
CREATED:20220120T125347Z
LAST-MODIFIED:20220120T125347Z
UID:1963-1643223600-1643230800@cfll.cactusfoothills.com
SUMMARY:AA Draft
DESCRIPTION:More Details Coming Soon
URL:https://cfll.cactusfoothills.com/event/aa-draft/
CATEGORIES:Baseball,Coaches,Draft
ATTACH;FMTTYPE=image/jpeg:https://cfll.cactusfoothills.com/wp-content/uploads/2022/01/draft.jpg
END:VEVENT
BEGIN:VEVENT
DTSTART;TZID=America/Denver:20220125T190000
DTEND;TZID=America/Denver:20220125T210000
DTSTAMP:20260423T144613
CREATED:20220120T125214Z
LAST-MODIFIED:20220120T125554Z
UID:1960-1643137200-1643144400@cfll.cactusfoothills.com
SUMMARY:AAA Draft
DESCRIPTION:More Details Coming Soon
URL:https://cfll.cactusfoothills.com/event/aaa-draft/
CATEGORIES:Baseball,Coaches,Draft
ATTACH;FMTTYPE=image/jpeg:https://cfll.cactusfoothills.com/wp-content/uploads/2022/01/draft.jpg
END:VEVENT
BEGIN:VEVENT
DTSTART;TZID=America/Denver:20220124T190000
DTEND;TZID=America/Denver:20220124T210000
DTSTAMP:20260423T144613
CREATED:20220120T125000Z
LAST-MODIFIED:20220120T125055Z
UID:1957-1643050800-1643058000@cfll.cactusfoothills.com
SUMMARY:Majors Draft
DESCRIPTION:More Details Coming Soon
URL:https://cfll.cactusfoothills.com/event/majors-draft/
CATEGORIES:Baseball,Coaches,Draft
ATTACH;FMTTYPE=image/jpeg:https://cfll.cactusfoothills.com/wp-content/uploads/2022/01/draft.jpg
END:VEVENT
BEGIN:VEVENT
DTSTART;TZID=America/Denver:20220120T180000
DTEND;TZID=America/Denver:20220120T201500
DTSTAMP:20260423T144613
CREATED:20220112T064845Z
LAST-MODIFIED:20220117T002539Z
UID:1737-1642701600-1642709700@cfll.cactusfoothills.com
SUMMARY:Coaches Meeting / Rules Clinic
DESCRIPTION:Coaches (:45)\n\nCFLL Mission\, Culture\, Code of Conduct Review\nCFLL Portal Overview\nCoaching Checklist\nDocumentation Requirements\nRoles and Volunteer Support\nFundraising Support\nCoaching Tools and Resources\nOperations Support and Expectations\nTraining required (concussions\, abuse (safe sport))\nSchedule/Key Dates\n\n\nUmpires & Coaches (1:15-20)\n\nWorking Together\n2022 Rule Changes\nCommon Myths (and reality) and Points of Emphasis\n\n\nUmpires (:45)\n\nPayment and Scheduling (HorizonWebRef)\nExam Format/schedule\nResources (Rules and Mechanics)\nField Clinic(s)
URL:https://cfll.cactusfoothills.com/event/coaches-meeting-rules-clinic/
LOCATION:Fine Arts Center\, 33606 N 60th St.\, Scottsdale\, AZ\, 85266\, United States
CATEGORIES:Coaches
ATTACH;FMTTYPE=image/jpeg:https://cfll.cactusfoothills.com/wp-content/uploads/2022/01/coachesmeeting.jpg
END:VEVENT
END:VCALENDAR