BEGIN:VCALENDAR
VERSION:2.0
PRODID:-//Cactus Foothills Little League CFLL Portal - ECPv6.15.20//NONSGML v1.0//EN
CALSCALE:GREGORIAN
METHOD:PUBLISH
X-ORIGINAL-URL:https://cfll.cactusfoothills.com
X-WR-CALDESC:Events for Cactus Foothills Little League CFLL Portal
REFRESH-INTERVAL;VALUE=DURATION:PT1H
X-Robots-Tag:noindex
X-PUBLISHED-TTL:PT1H
BEGIN:VTIMEZONE
TZID:America/Denver
BEGIN:DAYLIGHT
TZOFFSETFROM:-0700
TZOFFSETTO:-0600
TZNAME:MDT
DTSTART:20210314T090000
END:DAYLIGHT
BEGIN:STANDARD
TZOFFSETFROM:-0600
TZOFFSETTO:-0700
TZNAME:MST
DTSTART:20211107T080000
END:STANDARD
BEGIN:DAYLIGHT
TZOFFSETFROM:-0700
TZOFFSETTO:-0600
TZNAME:MDT
DTSTART:20220313T090000
END:DAYLIGHT
BEGIN:STANDARD
TZOFFSETFROM:-0600
TZOFFSETTO:-0700
TZNAME:MST
DTSTART:20221106T080000
END:STANDARD
BEGIN:DAYLIGHT
TZOFFSETFROM:-0700
TZOFFSETTO:-0600
TZNAME:MDT
DTSTART:20230312T090000
END:DAYLIGHT
BEGIN:STANDARD
TZOFFSETFROM:-0600
TZOFFSETTO:-0700
TZNAME:MST
DTSTART:20231105T080000
END:STANDARD
END:VTIMEZONE
BEGIN:VEVENT
DTSTART;TZID=America/Denver:20220122T110000
DTEND;TZID=America/Denver:20220122T123000
DTSTAMP:20260423T173755
CREATED:20220112T064500Z
LAST-MODIFIED:20220112T064500Z
UID:1735-1642849200-1642854600@cfll.cactusfoothills.com
SUMMARY:10-12 Baseball Evaluations
DESCRIPTION:Dear Cactus Foothills Parents: \nAll baseball players MUST sign up for evaluations unless they are a returning Majors player from the Spring 2021 season.\nBaseball player skill evaluations will be held at the Horseshoe Trails Baseball Fields. Players only need to attend 1 session \nAny 6 year olds who would like to be evaluated for possible placement in A ball (machine pitch) should sign-up and attend one of the evaluations with the 7-9 year old age group. \nTee ball players (ages 4-6) do NOT need to attend player evaluations. \nLink for Player Sign Up: Click Here for Sign Up Genius
URL:https://cfll.cactusfoothills.com/event/10-12-baseball-evaluations-2/
LOCATION:Horseshoe Trails\, 5405 E Pinnacle Vista Dr\, Phoenix\, AZ\, 85054\, United States
CATEGORIES:10-12,Baseball,Evals,Evaluations,Try Outs
ATTACH;FMTTYPE=image/png:https://cfll.cactusfoothills.com/wp-content/uploads/2021/11/CFLLLogo.png
END:VEVENT
BEGIN:VEVENT
DTSTART;TZID=America/Denver:20220118T193000
DTEND;TZID=America/Denver:20220118T210000
DTSTAMP:20260423T173755
CREATED:20220112T063820Z
LAST-MODIFIED:20220112T063820Z
UID:1726-1642534200-1642539600@cfll.cactusfoothills.com
SUMMARY:10-12 Baseball Evaluations
DESCRIPTION:Dear Cactus Foothills Parents: \nAll baseball players MUST sign up for evaluations unless they are a returning Majors player from the Spring 2021 season.\nBaseball player skill evaluations will be held at the Horseshoe Trails Baseball Fields. Players only need to attend 1 session \nAny 6 year olds who would like to be evaluated for possible placement in A ball (machine pitch) should sign-up and attend one of the evaluations with the 7-9 year old age group. \nTee ball players (ages 4-6) do NOT need to attend player evaluations. \nLink for Player Sign Up: Click Here for Sign Up Genius
URL:https://cfll.cactusfoothills.com/event/10-12-baseball-evaluations/
LOCATION:Horseshoe Trails\, 5405 E Pinnacle Vista Dr\, Phoenix\, AZ\, 85054\, United States
CATEGORIES:10-12,Baseball,Evals,Evaluations,Try Outs
ATTACH;FMTTYPE=image/png:https://cfll.cactusfoothills.com/wp-content/uploads/2021/11/CFLLLogo.png
END:VEVENT
BEGIN:VEVENT
DTSTART;TZID=America/Denver:20220118T173000
DTEND;TZID=America/Denver:20220118T190000
DTSTAMP:20260423T173755
CREATED:20220112T023018Z
LAST-MODIFIED:20220112T063923Z
UID:1715-1642527000-1642532400@cfll.cactusfoothills.com
SUMMARY:10-12 Baseball Evaluations
DESCRIPTION:Dear Cactus Foothills Parents: \nAll baseball players MUST sign up for evaluations unless they are a returning Majors player from the Spring 2021 season.\nBaseball player skill evaluations will be held at the Horseshoe Trails Baseball Fields. Players only need to attend 1 session \nAny 6 year olds who would like to be evaluated for possible placement in A ball (machine pitch) should sign-up and attend one of the evaluations with the 7-9 year old age group. \nTee ball players (ages 4-6) do NOT need to attend player evaluations. \nLink for Player Sign Up: Click Here for Sign Up Genius
URL:https://cfll.cactusfoothills.com/event/baseball-10-12-evals/
LOCATION:Horseshoe Trails\, 5405 E Pinnacle Vista Dr\, Phoenix\, AZ\, 85054\, United States
CATEGORIES:10-12,Baseball,Evals,Evaluations,Try Outs
ATTACH;FMTTYPE=image/png:https://cfll.cactusfoothills.com/wp-content/uploads/2021/11/CFLLLogo.png
END:VEVENT
END:VCALENDAR